BEGIN:VCALENDAR
VERSION:2.0
PRODID:-//Tukios.com/
BEGIN:VEVENT
UID:e6265b70-4e71-4cb4-9a09-6e73c814dd35@www.muellermemorial.com
DTSTAMP:20260422T183819Z
DTSTART:20260507T143000Z
DTEND:20260507T153000Z
SUMMARY:Visitation
DESCRIPTION:
URL:https://www.muellermemorial.com/obituaries/eunice-winger
LOCATION:The Church of St. Pascal Baylon 1757 Conway Street  Saint Paul 
	MN 55106
GEO:44.9563722;-93.0264901
END:VEVENT
END:VCALENDAR