BEGIN:VCALENDAR
VERSION:2.0
PRODID:-//Tukios.com/
BEGIN:VEVENT
UID:2f8fcebe-88d2-4958-8236-abfe45959193@www.muellermemorial.com
DTSTAMP:20260422T183855Z
DTSTART:20260507T153000Z
DTEND:20260507T163000Z
SUMMARY:Mass of Christian Burial
DESCRIPTION:
URL:https://www.muellermemorial.com/obituaries/eunice-winger
LOCATION:The Church of St. Pascal Baylon 1757 Conway Street  Saint Paul 
	MN 55106
GEO:44.9563722;-93.0264901
END:VEVENT
END:VCALENDAR